BEGIN:VCALENDAR
VERSION:2.0
PRODID:-//wp-events-plugin.com//7.2.3.1//EN
TZID:Europe/London
X-WR-TIMEZONE:Europe/London
BEGIN:VEVENT
UID:856@georgedragon.co.uk
DTSTART;TZID=Europe/London:20260501T220000
DTEND;TZID=Europe/London:20260501T230000
DTSTAMP:20260417T170838Z
URL:https://georgedragon.co.uk/events/mary-golds-16/
SUMMARY:Mary Golds
DESCRIPTION:The Welsh songstress Mary Golds will keep you entertained with 
 a variety of songs and banter
ATTACH;FMTTYPE=image/jpeg:https://georgedragon.co.uk/wp-content/uploads/20
 23/12/Baroness-Mary-Golds.jpeg
CATEGORIES:Cabaret
END:VEVENT
BEGIN:VTIMEZONE
TZID:Europe/London
X-LIC-LOCATION:Europe/London
BEGIN:DAYLIGHT
DTSTART:20260329T020000
TZOFFSETFROM:+0000
TZOFFSETTO:+0100
TZNAME:BST
END:DAYLIGHT
END:VTIMEZONE
END:VCALENDAR